BEGIN:VCALENDAR
VERSION:2.0
PRODID:DPCALENDAR
CALSCALE:GREGORIAN
BEGIN:VTIMEZONE
TZID:UTC
X-MICROSOFT-CDO-TZID:0
END:VTIMEZONE
X-WR-TIMEZONE:UTC
BEGIN:VEVENT
DTSTART;TZID=UTC:20170523T010000
DTEND;TZID=UTC:20170524T020000
UID:095FB41A-2200-4B1A-9734-2D44AD00271C
SUMMARY:Встреча выпускников
DTSTAMP:20170522T011617Z
DESCRIPTION:
X-ALT-DESC;FMTTYPE=text/html:
X-ACCESS:1
X-HITS:1
X-URL:
X-COLOR:3366CC
END:VEVENT
END:VCALENDAR